BEGIN:VCALENDAR
VERSION:2.0
PRODID:-//Startup MasterTrack - ECPv6.15.11//NONSGML v1.0//EN
CALSCALE:GREGORIAN
METHOD:PUBLISH
X-WR-CALNAME:Startup MasterTrack
X-ORIGINAL-URL:https://startupmastertrack.com
X-WR-CALDESC:Sự kiện cho Startup MasterTrack
REFRESH-INTERVAL;VALUE=DURATION:PT1H
X-Robots-Tag:noindex
X-PUBLISHED-TTL:PT1H
BEGIN:VTIMEZONE
TZID:UTC
BEGIN:STANDARD
TZOFFSETFROM:+0000
TZOFFSETTO:+0000
TZNAME:UTC
DTSTART:20250101T000000
END:STANDARD
END:VTIMEZONE
BEGIN:VEVENT
DTSTART;TZID=UTC:20261104T183000
DTEND;TZID=UTC:20261104T210000
DTSTAMP:20260423T161007
CREATED:20251117T121831Z
LAST-MODIFIED:20251117T121831Z
UID:2980-1793817000-1793826000@startupmastertrack.com
SUMMARY:Thiết kế chiến lược tối ưu cho doanh nghiệp
DESCRIPTION:Buổi 1
URL:https://startupmastertrack.com/event/thiet-ke-chien-luoc-toi-uu-cho-doanh-nghiep/
LOCATION:123 Trương Định\, Phường Xuân Hòa\, Hồ Chí Minh\, Viet Nam
CATEGORIES:GV Hồ Hán Dân
END:VEVENT
BEGIN:VEVENT
DTSTART;TZID=UTC:20261106T183000
DTEND;TZID=UTC:20261106T210000
DTSTAMP:20260423T161007
CREATED:20251117T121910Z
LAST-MODIFIED:20251117T121910Z
UID:2982-1793989800-1793998800@startupmastertrack.com
SUMMARY:Thiết kế chiến lược tối ưu cho doanh nghiệp
DESCRIPTION:Buổi 2
URL:https://startupmastertrack.com/event/thiet-ke-chien-luoc-toi-uu-cho-doanh-nghiep-2/
LOCATION:123 Trương Định\, Phường Xuân Hòa\, Hồ Chí Minh\, Viet Nam
CATEGORIES:GV Hồ Hán Dân
END:VEVENT
END:VCALENDAR