BEGIN:VCALENDAR
VERSION:2.0
PRODID:-//Startup MasterTrack - ECPv6.15.11//NONSGML v1.0//EN
CALSCALE:GREGORIAN
METHOD:PUBLISH
X-ORIGINAL-URL:https://startupmastertrack.com
X-WR-CALDESC:Sự kiện cho Startup MasterTrack
REFRESH-INTERVAL;VALUE=DURATION:PT1H
X-Robots-Tag:noindex
X-PUBLISHED-TTL:PT1H
BEGIN:VTIMEZONE
TZID:UTC
BEGIN:STANDARD
TZOFFSETFROM:+0000
TZOFFSETTO:+0000
TZNAME:UTC
DTSTART:20250101T000000
END:STANDARD
END:VTIMEZONE
BEGIN:VEVENT
DTSTART;TZID=UTC:20260325T183000
DTEND;TZID=UTC:20260325T210000
DTSTAMP:20260419T144716
CREATED:20251112T152115Z
LAST-MODIFIED:20251112T152115Z
UID:2816-1774463400-1774472400@startupmastertrack.com
SUMMARY:Ứng dụng AI trong Marketing - Tiết kiệm hàng chục triệu chi phí vận hành
DESCRIPTION:Buổi 1
URL:https://startupmastertrack.com/event/ung-dung-ai-trong-marketing-tiet-kiem-hang-chuc-trieu-chi-phi-van-hanh/
LOCATION:123 Trương Định\, Phường Xuân Hòa\, Hồ Chí Minh\, Viet Nam
CATEGORIES:GV Mai Nguyễn Hoàng Nam
END:VEVENT
BEGIN:VEVENT
DTSTART;TZID=UTC:20260327T183000
DTEND;TZID=UTC:20260327T210000
DTSTAMP:20260419T144716
CREATED:20251112T152402Z
LAST-MODIFIED:20251112T152402Z
UID:2819-1774636200-1774645200@startupmastertrack.com
SUMMARY:Ứng dụng AI trong Marketing - Tiết kiệm hàng chục triệu chi phí vận hành
DESCRIPTION:Buổi 2
URL:https://startupmastertrack.com/event/ung-dung-ai-trong-marketing-tiet-kiem-hang-chuc-trieu-chi-phi-van-hanh-2/
LOCATION:123 Trương Định\, Phường Xuân Hòa\, Hồ Chí Minh\, Viet Nam
CATEGORIES:GV Mai Nguyễn Hoàng Nam
END:VEVENT
END:VCALENDAR