BEGIN:VCALENDAR
VERSION:2.0
PRODID:-//Startup MasterTrack - ECPv6.15.11//NONSGML v1.0//EN
CALSCALE:GREGORIAN
METHOD:PUBLISH
X-ORIGINAL-URL:https://startupmastertrack.com
X-WR-CALDESC:Sự kiện cho Startup MasterTrack
REFRESH-INTERVAL;VALUE=DURATION:PT1H
X-Robots-Tag:noindex
X-PUBLISHED-TTL:PT1H
BEGIN:VTIMEZONE
TZID:UTC
BEGIN:STANDARD
TZOFFSETFROM:+0000
TZOFFSETTO:+0000
TZNAME:UTC
DTSTART:20250101T000000
END:STANDARD
END:VTIMEZONE
BEGIN:VEVENT
DTSTART;TZID=UTC:20260610T183000
DTEND;TZID=UTC:20260610T210000
DTSTAMP:20260423T122345
CREATED:20251117T105438Z
LAST-MODIFIED:20251117T105438Z
UID:2895-1781116200-1781125200@startupmastertrack.com
SUMMARY:Xây dựng thương hiệu 0đ
DESCRIPTION:Buổi 1
URL:https://startupmastertrack.com/event/xay-dung-thuong-hieu-0d/
LOCATION:123 Trương Định\, Phường Xuân Hòa\, Hồ Chí Minh\, Viet Nam
CATEGORIES:GV Mai Nguyễn Hoàng Nam
END:VEVENT
BEGIN:VEVENT
DTSTART;TZID=UTC:20260619T183000
DTEND;TZID=UTC:20260619T210000
DTSTAMP:20260423T122345
CREATED:20251117T105956Z
LAST-MODIFIED:20251117T105956Z
UID:2901-1781893800-1781902800@startupmastertrack.com
SUMMARY:Tối ưu và tích hợp AI trong công việc
DESCRIPTION:Buổi 2
URL:https://startupmastertrack.com/event/toi-uu-va-tich-hop-ai-trong-cong-viec-2/
LOCATION:123 Trương Định\, Phường Xuân Hòa\, Hồ Chí Minh\, Viet Nam
CATEGORIES:GV Mai Nguyễn Hoàng Nam
END:VEVENT
END:VCALENDAR