BEGIN:VCALENDAR
VERSION:2.0
PRODID:-//Startup MasterTrack - ECPv6.15.11//NONSGML v1.0//EN
CALSCALE:GREGORIAN
METHOD:PUBLISH
X-ORIGINAL-URL:https://startupmastertrack.com
X-WR-CALDESC:Sự kiện cho Startup MasterTrack
REFRESH-INTERVAL;VALUE=DURATION:PT1H
X-Robots-Tag:noindex
X-PUBLISHED-TTL:PT1H
BEGIN:VTIMEZONE
TZID:UTC
BEGIN:STANDARD
TZOFFSETFROM:+0000
TZOFFSETTO:+0000
TZNAME:UTC
DTSTART:20250101T000000
END:STANDARD
END:VTIMEZONE
BEGIN:VEVENT
DTSTART;TZID=UTC:20260701T183000
DTEND;TZID=UTC:20260701T210000
DTSTAMP:20260423T140502
CREATED:20251117T110442Z
LAST-MODIFIED:20251117T110442Z
UID:2907-1782930600-1782939600@startupmastertrack.com
SUMMARY:Xây dựng Pitch Deck và Nghệ thuật gọi vốn triệu đô
DESCRIPTION:Buổi 1
URL:https://startupmastertrack.com/event/xay-dung-pitch-deck-va-nghe-thuat-goi-von-trieu-do/
LOCATION:123 Trương Định\, Phường Xuân Hòa\, Hồ Chí Minh\, Viet Nam
CATEGORIES:GV Mai Nguyễn Hoàng Nam
END:VEVENT
BEGIN:VEVENT
DTSTART;TZID=UTC:20260708T183000
DTEND;TZID=UTC:20260708T210000
DTSTAMP:20260423T140502
CREATED:20251117T110649Z
LAST-MODIFIED:20251117T111307Z
UID:2911-1783535400-1783544400@startupmastertrack.com
SUMMARY:Mareting du kích
DESCRIPTION:Buổi1: Tư duy marketing cho startup: từ không ngân sách đến hiệu quả
URL:https://startupmastertrack.com/event/mareting-du-kich/
LOCATION:123 Trương Định\, Phường Xuân Hòa\, Hồ Chí Minh\, Viet Nam
CATEGORIES:GV Mai Nguyễn Hoàng Nam
END:VEVENT
END:VCALENDAR