BEGIN:VCALENDAR
VERSION:2.0
PRODID:-//Startup MasterTrack - ECPv6.15.11//NONSGML v1.0//EN
CALSCALE:GREGORIAN
METHOD:PUBLISH
X-WR-CALNAME:Startup MasterTrack
X-ORIGINAL-URL:https://startupmastertrack.com
X-WR-CALDESC:Sự kiện cho Startup MasterTrack
REFRESH-INTERVAL;VALUE=DURATION:PT1H
X-Robots-Tag:noindex
X-PUBLISHED-TTL:PT1H
BEGIN:VTIMEZONE
TZID:UTC
BEGIN:STANDARD
TZOFFSETFROM:+0000
TZOFFSETTO:+0000
TZNAME:UTC
DTSTART:20250101T000000
END:STANDARD
END:VTIMEZONE
BEGIN:VEVENT
DTSTART;TZID=UTC:20260204T183000
DTEND;TZID=UTC:20260204T210000
DTSTAMP:20260423T102447
CREATED:20251112T150836Z
LAST-MODIFIED:20251112T150836Z
UID:2797-1770229800-1770238800@startupmastertrack.com
SUMMARY:Kỹ năng Định giá Doanh nghiệp
DESCRIPTION:Buổi1: Các phương pháp định giá doanh nghiệp
URL:https://startupmastertrack.com/event/ky-nang-dinh-gia-doanh-nghiep/
LOCATION:123 Trương Định\, Phường Xuân Hòa\, Hồ Chí Minh\, Viet Nam
CATEGORIES:GV Nguyễn Anh Toàn
END:VEVENT
BEGIN:VEVENT
DTSTART;TZID=UTC:20260206T183000
DTEND;TZID=UTC:20260206T210000
DTSTAMP:20260423T102447
CREATED:20251112T150953Z
LAST-MODIFIED:20251112T150953Z
UID:2799-1770402600-1770411600@startupmastertrack.com
SUMMARY:Kỹ năng Định giá Doanh nghiệp
DESCRIPTION:Buổi 2: M&A
URL:https://startupmastertrack.com/event/ky-nang-dinh-gia-doanh-nghiep-2/
LOCATION:123 Trương Định\, Phường Xuân Hòa\, Hồ Chí Minh\, Viet Nam
CATEGORIES:GV Nguyễn Anh Toàn
END:VEVENT
END:VCALENDAR