BEGIN:VCALENDAR
VERSION:2.0
PRODID:-//Startup MasterTrack - ECPv6.15.11//NONSGML v1.0//EN
CALSCALE:GREGORIAN
METHOD:PUBLISH
X-WR-CALNAME:Startup MasterTrack
X-ORIGINAL-URL:https://startupmastertrack.com
X-WR-CALDESC:Sự kiện cho Startup MasterTrack
REFRESH-INTERVAL;VALUE=DURATION:PT1H
X-Robots-Tag:noindex
X-PUBLISHED-TTL:PT1H
BEGIN:VTIMEZONE
TZID:UTC
BEGIN:STANDARD
TZOFFSETFROM:+0000
TZOFFSETTO:+0000
TZNAME:UTC
DTSTART:20240101T000000
END:STANDARD
END:VTIMEZONE
BEGIN:VEVENT
DTSTART;TZID=UTC:20251203T183000
DTEND;TZID=UTC:20251203T210000
DTSTAMP:20260423T140946
CREATED:20251108T065704Z
LAST-MODIFIED:20251108T084439Z
UID:2637-1764786600-1764795600@startupmastertrack.com
SUMMARY:Xây dựng OKR và KPI tối ưu cho nhân sự
DESCRIPTION:Buổi1: Phương pháp xây dựng OKR và đánh giá kết quả thực hiện
URL:https://startupmastertrack.com/event/xay-dung-okr-va-kpi-toi-uu-cho-nhan-su/
LOCATION:123 Trương Định\, Phường Xuân Hòa\, Hồ Chí Minh\, Viet Nam
CATEGORIES:GV Nguyễn Đức Nhân
END:VEVENT
BEGIN:VEVENT
DTSTART;TZID=UTC:20251205T183000
DTEND;TZID=UTC:20251205T210000
DTSTAMP:20260423T140946
CREATED:20251108T070417Z
LAST-MODIFIED:20251108T084509Z
UID:2644-1764959400-1764968400@startupmastertrack.com
SUMMARY:Xây dựng OKR và KPI tối ưu cho nhân sự
DESCRIPTION:Buổi 2: Xây dựng hệ thống KPI cho cá nhân\, bộ phận\, phòng ban và quản trị hệ thống KPI cho các vị trí chức danh
URL:https://startupmastertrack.com/event/xay-dung-okr-va-kpi-toi-uu-cho-nhan-su-2/
LOCATION:123 Trương Định\, Phường Xuân Hòa\, Hồ Chí Minh\, Viet Nam
CATEGORIES:GV Nguyễn Đức Nhân
END:VEVENT
BEGIN:VEVENT
DTSTART;TZID=UTC:20251217T183000
DTEND;TZID=UTC:20251217T210000
DTSTAMP:20260423T140946
CREATED:20251108T074627Z
LAST-MODIFIED:20251202T082022Z
UID:2678-1765996200-1766005200@startupmastertrack.com
SUMMARY:Các cải tiến đột phá làm giảm giá thành sản xuất
DESCRIPTION:Buổi1: Dư địa cho cải tiến giá thành sản xuất
URL:https://startupmastertrack.com/event/cac-cai-tien-dot-pha-lam-giam-gia-thanh-san-xuat/
LOCATION:123 Trương Định\, Phường Xuân Hòa\, Hồ Chí Minh\, Viet Nam
CATEGORIES:GV Nguyễn Đức Nhân
END:VEVENT
BEGIN:VEVENT
DTSTART;TZID=UTC:20251219T183000
DTEND;TZID=UTC:20251219T210000
DTSTAMP:20260423T140946
CREATED:20251108T074811Z
LAST-MODIFIED:20251202T082053Z
UID:2680-1766169000-1766178000@startupmastertrack.com
SUMMARY:Các cải tiến đột phá làm giảm giá thành sản xuất
DESCRIPTION:Buổi 2: Hoạch định và quản lý chương trình cải tiến giá thành sản xuất
URL:https://startupmastertrack.com/event/cac-cai-tien-dot-pha-lam-giam-gia-thanh-san-xuat-2/
LOCATION:123 Trương Định\, Phường Xuân Hòa\, Hồ Chí Minh\, Viet Nam
CATEGORIES:GV Nguyễn Đức Nhân
END:VEVENT
BEGIN:VEVENT
DTSTART;TZID=UTC:20251231T183000
DTEND;TZID=UTC:20251231T210000
DTSTAMP:20260423T140946
CREATED:20251108T132910Z
LAST-MODIFIED:20251112T144620Z
UID:2712-1767205800-1767214800@startupmastertrack.com
SUMMARY:Lập kế hoạch và Triển khai công việc cho năm 2026
DESCRIPTION:Buổi1: Quy trình\, công cụ\, phân chia và lập kế hoạch theo bộ phận
URL:https://startupmastertrack.com/event/lap-ke-hoach-va-trien-khai-cong-viec-cho-nam-2026/
LOCATION:123 Trương Định\, Phường Xuân Hòa\, Hồ Chí Minh\, Viet Nam
CATEGORIES:GV Nguyễn Đức Nhân
END:VEVENT
END:VCALENDAR