BEGIN:VCALENDAR
VERSION:2.0
PRODID:-//Startup MasterTrack - ECPv6.15.11//NONSGML v1.0//EN
CALSCALE:GREGORIAN
METHOD:PUBLISH
X-ORIGINAL-URL:https://startupmastertrack.com
X-WR-CALDESC:Sự kiện cho Startup MasterTrack
REFRESH-INTERVAL;VALUE=DURATION:PT1H
X-Robots-Tag:noindex
X-PUBLISHED-TTL:PT1H
BEGIN:VTIMEZONE
TZID:UTC
BEGIN:STANDARD
TZOFFSETFROM:+0000
TZOFFSETTO:+0000
TZNAME:UTC
DTSTART:20250101T000000
END:STANDARD
END:VTIMEZONE
BEGIN:VEVENT
DTSTART;TZID=UTC:20260102T183000
DTEND;TZID=UTC:20260102T210000
DTSTAMP:20260423T121540
CREATED:20251108T133055Z
LAST-MODIFIED:20251108T135814Z
UID:2715-1767378600-1767387600@startupmastertrack.com
SUMMARY:Lập kế hoạch và triển khai công việc cho năm 2026
DESCRIPTION:Buổi 2: Triển khai\, kiểm soát\, cập nhật và báo cáo theo kế hoạch
URL:https://startupmastertrack.com/event/lap-ke-hoach-va-trien-khai-cong-viec-cho-nam-2026-2/
LOCATION:123 Trương Định\, Phường Xuân Hòa\, Hồ Chí Minh\, Viet Nam
CATEGORIES:GV Nguyễn Đức Nhân
END:VEVENT
BEGIN:VEVENT
DTSTART;TZID=UTC:20260106T183000
DTEND;TZID=UTC:20260106T210000
DTSTAMP:20260423T121540
CREATED:20251108T135642Z
LAST-MODIFIED:20251108T135642Z
UID:2732-1767724200-1767733200@startupmastertrack.com
SUMMARY:Lập kế hoạch và Triển khai công việc cho năm 2026
DESCRIPTION:Buổi 1: Quy trình\, công cụ\, phân chia và lập kế hoạch theo bộ phận
URL:https://startupmastertrack.com/event/lap-ke-hoach-va-trien-khai-cong-viec-cho-nam-2026-3/
LOCATION:184/1A Lê Văn Sỹ\, Phường Phú Nhuận\, Hồ Chí Minh\, Viet Nam
CATEGORIES:GV Nguyễn Đức Nhân
END:VEVENT
BEGIN:VEVENT
DTSTART;TZID=UTC:20260108T183000
DTEND;TZID=UTC:20260108T210000
DTSTAMP:20260423T121540
CREATED:20251108T135908Z
LAST-MODIFIED:20251108T135908Z
UID:2735-1767897000-1767906000@startupmastertrack.com
SUMMARY:Lập kế hoạch và Triển khai công việc cho năm 2026
DESCRIPTION:Buổi 2: Triển khai\, kiểm soát\, cập nhật và báo cáo theo kế hoạch
URL:https://startupmastertrack.com/event/lap-ke-hoach-va-trien-khai-cong-viec-cho-nam-2026-4/
LOCATION:184/1A Lê Văn Sỹ\, Phường Phú Nhuận\, Hồ Chí Minh\, Viet Nam
CATEGORIES:GV Nguyễn Đức Nhân
END:VEVENT
BEGIN:VEVENT
DTSTART;TZID=UTC:20260121T183000
DTEND;TZID=UTC:20260121T210000
DTSTAMP:20260423T121540
CREATED:20251112T150018Z
LAST-MODIFIED:20251112T150018Z
UID:2785-1769020200-1769029200@startupmastertrack.com
SUMMARY:Quản trị nhân sự chuyên nghiệp
DESCRIPTION:Buổi1: Hoạch định chiến lược nguồn nhân sự
URL:https://startupmastertrack.com/event/quan-tri-nhan-su-chuyen-nghiep/
LOCATION:123 Trương Định\, Phường Xuân Hòa\, Hồ Chí Minh\, Viet Nam
CATEGORIES:GV Nguyễn Đức Nhân
END:VEVENT
BEGIN:VEVENT
DTSTART;TZID=UTC:20260123T183000
DTEND;TZID=UTC:20260123T210000
DTSTAMP:20260423T121540
CREATED:20251112T150122Z
LAST-MODIFIED:20251112T150122Z
UID:2787-1769193000-1769202000@startupmastertrack.com
SUMMARY:Quản trị nhân sự chuyên nghiệp
DESCRIPTION:Buổi 2: Quản trị tiền lương và xây dựng từ điển năng lực để phát triển năng lực nhân sự
URL:https://startupmastertrack.com/event/quan-tri-nhan-su-chuyen-nghiep-2/
LOCATION:123 Trương Định\, Phường Xuân Hòa\, Hồ Chí Minh\, Viet Nam
CATEGORIES:GV Nguyễn Đức Nhân
END:VEVENT
END:VCALENDAR