BEGIN:VCALENDAR
VERSION:2.0
PRODID:-//Startup MasterTrack - ECPv6.15.11//NONSGML v1.0//EN
CALSCALE:GREGORIAN
METHOD:PUBLISH
X-WR-CALNAME:Startup MasterTrack
X-ORIGINAL-URL:https://startupmastertrack.com
X-WR-CALDESC:Sự kiện cho Startup MasterTrack
REFRESH-INTERVAL;VALUE=DURATION:PT1H
X-Robots-Tag:noindex
X-PUBLISHED-TTL:PT1H
BEGIN:VTIMEZONE
TZID:UTC
BEGIN:STANDARD
TZOFFSETFROM:+0000
TZOFFSETTO:+0000
TZNAME:UTC
DTSTART:20250101T000000
END:STANDARD
END:VTIMEZONE
BEGIN:VEVENT
DTSTART;TZID=UTC:20260527T183000
DTEND;TZID=UTC:20260527T210000
DTSTAMP:20260423T101918
CREATED:20251117T103758Z
LAST-MODIFIED:20251117T103758Z
UID:2877-1779906600-1779915600@startupmastertrack.com
SUMMARY:Giao tiếp phòng ban hiệu quả
DESCRIPTION:Buổi1: Kỹ năng giao tiếp trong doanh nghiệp
URL:https://startupmastertrack.com/event/giao-tiep-phong-ban-hieu-qua/
LOCATION:123 Trương Định\, Phường Xuân Hòa\, Hồ Chí Minh\, Viet Nam
CATEGORIES:GV Nguyễn Đức Nhân
END:VEVENT
BEGIN:VEVENT
DTSTART;TZID=UTC:20260529T183000
DTEND;TZID=UTC:20260529T210000
DTSTAMP:20260423T101918
CREATED:20251117T105042Z
LAST-MODIFIED:20251117T105042Z
UID:2888-1780079400-1780088400@startupmastertrack.com
SUMMARY:Giao tiếp phòng ban hiệu quả
DESCRIPTION:Buổi 2: Văn hóa giao tiếp (điện thoại\, email\, trực tiếp\, văn bản\,…)
URL:https://startupmastertrack.com/event/giao-tiep-phong-ban-hieu-qua-2/
LOCATION:123 Trương Định\, Phường Xuân Hòa\, Hồ Chí Minh\, Viet Nam
CATEGORIES:GV Nguyễn Đức Nhân
END:VEVENT
END:VCALENDAR